BEGIN:VCALENDAR
VERSION:2.0
PRODID:-//Literacy 4 Life Texas - ECPv6.15.11//NONSGML v1.0//EN
CALSCALE:GREGORIAN
METHOD:PUBLISH
X-ORIGINAL-URL:https://literacy4lifetx.org
X-WR-CALDESC:Events for Literacy 4 Life Texas
REFRESH-INTERVAL;VALUE=DURATION:PT1H
X-Robots-Tag:noindex
X-PUBLISHED-TTL:PT1H
BEGIN:VTIMEZONE
TZID:UTC
BEGIN:STANDARD
TZOFFSETFROM:+0000
TZOFFSETTO:+0000
TZNAME:UTC
DTSTART:20210101T000000
END:STANDARD
END:VTIMEZONE
BEGIN:VEVENT
DTSTART;TZID=UTC:20221217T100000
DTEND;TZID=UTC:20221217T120000
DTSTAMP:20260425T111417
CREATED:20221026T065725Z
LAST-MODIFIED:20221208T230241Z
UID:1568-1671271200-1671278400@literacy4lifetx.org
SUMMARY:BREAKFAST & STORY TIME WITH SANTA
DESCRIPTION:  \nPurchase your ticket \nAdd Ticket to Cart
URL:https://literacy4lifetx.org/event/breakfast-story-time-with-santa/
LOCATION:Harris County Cultural Arts Center\, 13334 Wallisville Road\, Houston\, TX\, 77049\, United States
CATEGORIES:Story Time
ATTACH;FMTTYPE=image/png:https://literacy4lifetx.org/wp-content/uploads/2022/10/BooksAndBreakfast.png
END:VEVENT
END:VCALENDAR